BEGIN:VCALENDAR
VERSION:2.0
PRODID:
BEGIN:VEVENT
UID:276622ccj
DTSTAMP:20260420T025833Z
DTSTART:20260806T140000Z
DTEND:20260806T220000Z
LOCATION: Hilton Garden Inn Great Falls (Great Falls\, 59404)
SUMMARY: Farm & Ranch Conference
DESCRIPTION: The agriculture industry's unique tax rules are closely linked to specialized income and tax deduction opportunities. Learn more about them at this virtual/live event\, where you'll hear from farm tax expert Paul Neiffer\, CPA\, author of the FarmCPAReport blog. Discover how to apply key tax planning concepts unique to agribusiness and gain guidance on how to maximize tax benefits for your farm clients\n \nThis course is the LIVE option. For the VIRTUAL option\, go to the <a href="https://www.montana.cpa/cpe?group=24cd5399-bdfb-446b-9760-dedde37f1bfb">MTCPA Webcasts</a> tab under the main CPE menu.\n  \nAll materials will be electronic only - available in your <a href="https://www.montana.cpa/my-materials">portal account</a> - up to 5 days before the event.\n  \nHOTELIf you need lodging for the Conference\, please contact the Hilton Garden Inn Great Falls at 406-452-1000 and reference MTCPA Farm &amp\; Ranch Conference or use this link: <a href="https://group.hiltongardeninn.com/erhdce">https://group.hiltongardeninn.com/erhdce</a>\n  
CLASS:PUBLIC
END:VEVENT
END:VCALENDAR
