BEGIN:VCALENDAR
VERSION:2.0
PRODID:
BEGIN:VEVENT
UID:276623ccj
DTSTAMP:20260420T044826Z
DTSTART:20260806T140000Z
DTEND:20260806T220000Z
SUMMARY: Farm & Ranch Conference - VIRTUAL
DESCRIPTION: VIRTUAL OPTION\n  \nThe agriculture industry's unique tax rules are closely linked to specialized income and tax deduction opportunities. Learn more about them at this virtual/live event\, where you'll hear from farm tax expert Paul Neiffer\, CPA\, author of the FarmCPAReport blog. Discover how to apply key tax planning concepts unique to agribusiness and gain guidance on how to maximize tax benefits for your farm clients\n \nAll materials will be electronic only - available in your <a href="https://www.montana.cpa/my-materials">portal account</a> - up to 5 days before the event.\n  \n \n  
CLASS:PUBLIC
END:VEVENT
END:VCALENDAR
